BEGIN:VCALENDAR
VERSION:2.0
PRODID:-//Apple Inc.//iCal 4.0.4//EN
CALSCALE:GREGORIAN
METHOD:PUBLISH
BEGIN:VEVENT
TRANSP:OPAQUE
DTSTART:20260603T203000
DTEND:20260603T223000
SUMMARY;ENCODING=QUOTED-PRINTABLE:Der Diener zweier Herren
LOCATION:Schulhausplatz Langweg\, Langweg 2\, 8942 Oberrieden
DESCRIPTION;ENCODING=QUOTED-PRINTABLE:\n\nAusweichspielstätte: Pünthalle\nPüntstrasse 8-12\, 8942 Oberrieden
PRIORITY:1
UID:event-10086@www.revamp.theaterzuerich.me
SEQUENCE:0
STATUS:CONFIRMED
END:VEVENT
END:VCALENDAR
